BEGIN:VCALENDAR
VERSION:2.0
PRODID:-//Westbury Arts - ECPv6.15.18//NONSGML v1.0//EN
CALSCALE:GREGORIAN
METHOD:PUBLISH
X-ORIGINAL-URL:https://westburyarts.org
X-WR-CALDESC:Events for Westbury Arts
REFRESH-INTERVAL;VALUE=DURATION:PT1H
X-Robots-Tag:noindex
X-PUBLISHED-TTL:PT1H
BEGIN:VTIMEZONE
TZID:America/New_York
BEGIN:DAYLIGHT
TZOFFSETFROM:-0500
TZOFFSETTO:-0400
TZNAME:EDT
DTSTART:20250309T070000
END:DAYLIGHT
BEGIN:STANDARD
TZOFFSETFROM:-0400
TZOFFSETTO:-0500
TZNAME:EST
DTSTART:20251102T060000
END:STANDARD
BEGIN:DAYLIGHT
TZOFFSETFROM:-0500
TZOFFSETTO:-0400
TZNAME:EDT
DTSTART:20260308T070000
END:DAYLIGHT
BEGIN:STANDARD
TZOFFSETFROM:-0400
TZOFFSETTO:-0500
TZNAME:EST
DTSTART:20261101T060000
END:STANDARD
BEGIN:DAYLIGHT
TZOFFSETFROM:-0500
TZOFFSETTO:-0400
TZNAME:EDT
DTSTART:20270314T070000
END:DAYLIGHT
BEGIN:STANDARD
TZOFFSETFROM:-0400
TZOFFSETTO:-0500
TZNAME:EST
DTSTART:20271107T060000
END:STANDARD
END:VTIMEZONE
BEGIN:VEVENT
DTSTART;TZID=America/New_York:20260531T160000
DTEND;TZID=America/New_York:20260531T190000
DTSTAMP:20260419T232640
CREATED:20260418T203319Z
LAST-MODIFIED:20260418T203319Z
UID:17713-1780243200-1780254000@westburyarts.org
SUMMARY:A Taste of South America-Wine Tasting Fundraiser
DESCRIPTION:“A Taste of South America!”\, will take guests on a guided journey through some of the most celebrated wine regions of Chile\, Argentina and Uruguay. Attendees will savor bold reds and crisp whites paired with tasty bites while enjoying lively conversation with fellow arts supporters\, local leaders\, and friends from across our vibrant community. It’s an evening of flavor\, culture\, and connection — all in support of the arts in Westbury.
URL:https://westburyarts.org/event/a-taste-of-south-america-wine-tasting-fundraiser/
LOCATION:Westbury Community Center (Main Room)\, 360 Post Avenue\, Westbury\, 11590
CATEGORIES:Archives,Fundraisers,Official Events
ATTACH;FMTTYPE=image/jpeg:https://westburyarts.org/wp-content/uploads/2026/04/2026-Wine-Tasting-image.jpg
END:VEVENT
END:VCALENDAR